BEGIN:VCALENDAR
VERSION:2.0
PRODID:-//Centro Comercial Plaza de las Américas - ECPv6.15.20//NONSGML v1.0//EN
CALSCALE:GREGORIAN
METHOD:PUBLISH
X-WR-CALNAME:Centro Comercial Plaza de las Américas
X-ORIGINAL-URL:https://plazadelasamericas.com.co
X-WR-CALDESC:Eventos para Centro Comercial Plaza de las Américas
REFRESH-INTERVAL;VALUE=DURATION:PT1H
X-Robots-Tag:noindex
X-PUBLISHED-TTL:PT1H
BEGIN:VTIMEZONE
TZID:America/Bogota
BEGIN:STANDARD
TZOFFSETFROM:-0500
TZOFFSETTO:-0500
TZNAME:-05
DTSTART:20250101T000000
END:STANDARD
END:VTIMEZONE
BEGIN:VEVENT
DTSTART;TZID=America/Bogota:20260313T150000
DTEND;TZID=America/Bogota:20260313T170000
DTSTAMP:20260424T092302
CREATED:20260309T172739Z
LAST-MODIFIED:20260309T173254Z
UID:36671-1773414000-1773421200@plazadelasamericas.com.co
SUMMARY:Concierto Policía Nacional: "Mujeres que protegen"
DESCRIPTION:¡Un homenaje lleno de música y admiración! 🎶👮‍♀️\nEn Plaza de las Américas nos vestimos de gala para recibir a la Policía Nacional con su concierto «Mujeres que protegen». Te invitamos a disfrutar de una tarde musical increíble\, donde honraremos la valiosa y valiente labor de las mujeres en nuestra sociedad. \n¡Agéndate y acompáñanos en este sentido homenaje! \n📅 Fecha: Viernes 13 de marzo \n⏰ Hora: De 3:00 p.m. a 5:00 p.m. \n📍 Lugar: Plaza Corazón
URL:https://plazadelasamericas.com.co/evento/concierto-policia-nacional/
ATTACH;FMTTYPE=image/jpeg:https://plazadelasamericas.com.co/wp-content/uploads/2026/03/Concierto-Policia-Nacional-Mujeres-que-protegen.avif
END:VEVENT
END:VCALENDAR