BEGIN:VCALENDAR
VERSION:2.0
PRODID:-//Centro Comercial Plaza de las Américas - ECPv6.15.20//NONSGML v1.0//EN
CALSCALE:GREGORIAN
METHOD:PUBLISH
X-WR-CALNAME:Centro Comercial Plaza de las Américas
X-ORIGINAL-URL:https://plazadelasamericas.com.co
X-WR-CALDESC:Eventos para Centro Comercial Plaza de las Américas
REFRESH-INTERVAL;VALUE=DURATION:PT1H
X-Robots-Tag:noindex
X-PUBLISHED-TTL:PT1H
BEGIN:VTIMEZONE
TZID:America/Bogota
BEGIN:STANDARD
TZOFFSETFROM:-0500
TZOFFSETTO:-0500
TZNAME:-05
DTSTART:20250101T000000
END:STANDARD
END:VTIMEZONE
BEGIN:VEVENT
DTSTART;TZID=America/Bogota:20260328T110000
DTEND;TZID=America/Bogota:20260328T160000
DTSTAMP:20260425T081348
CREATED:20260310T141928Z
LAST-MODIFIED:20260310T150809Z
UID:36720-1774695600-1774713600@plazadelasamericas.com.co
SUMMARY:Gran Jornada de Adopción de Mascotas
DESCRIPTION:¡El amor verdadero tiene cuatro patas y te está esperando! \n❤️🐕🐈 Dar amor transforma vidas. Si estás pensando en agrandar tu familia\, te invitamos a nuestra gran jornada de adopción. Ven y conoce a hermosos peluditos que solo buscan una segunda oportunidad y un hogar lleno de amor. \n¡No compres\, adopta y déjate enamorar!  \n📅 Fecha: Sábado 28 de marzo \n⏰ Hora: 11:00 a.m. a 4:00 p.m. \n📍 Lugar: Sky Town
URL:https://plazadelasamericas.com.co/evento/gran-jornada-de-adopcion-de-mascotas/
ATTACH;FMTTYPE=image/jpeg:https://plazadelasamericas.com.co/wp-content/uploads/2026/03/adopcion-mascotas.avif
END:VEVENT
END:VCALENDAR