BEGIN:VCALENDAR
VERSION:2.0
PRODID:-//Centro Comercial Plaza de las Américas - ECPv6.15.20//NONSGML v1.0//EN
CALSCALE:GREGORIAN
METHOD:PUBLISH
X-WR-CALNAME:Centro Comercial Plaza de las Américas
X-ORIGINAL-URL:https://plazadelasamericas.com.co
X-WR-CALDESC:Eventos para Centro Comercial Plaza de las Américas
REFRESH-INTERVAL;VALUE=DURATION:PT1H
X-Robots-Tag:noindex
X-PUBLISHED-TTL:PT1H
BEGIN:VTIMEZONE
TZID:America/Bogota
BEGIN:STANDARD
TZOFFSETFROM:-0500
TZOFFSETTO:-0500
TZNAME:-05
DTSTART:20250101T000000
END:STANDARD
END:VTIMEZONE
BEGIN:VEVENT
DTSTART;TZID=America/Bogota:20260314T130000
DTEND;TZID=America/Bogota:20260314T143000
DTSTAMP:20260424T092429
CREATED:20260309T174909Z
LAST-MODIFIED:20260309T230125Z
UID:36676-1773493200-1773498600@plazadelasamericas.com.co
SUMMARY:Especial "Mujeres Fenomenales"
DESCRIPTION:¡Un espacio dedicado a tu poder e inspiración\, mujer! 🌸\nÚnete a nosotros en una jornada transformadora. Iniciaremos con la maravillosa charla «Amor propio sin medidas« a cargo de Nelly León (@la.osaoficial)\, donde aprenderemos a valorarnos más que nunca. Luego\, nos inspiraremos en un poderoso conversatorio con tres invitadas de lujo: Paola Moreno\, Susy Mora y Violeta Bergonzi. \n  \n¡Ven a recargarte de la mejor energía\, separa tu lugar!  \n📅 Fecha: Sábado 14 de marzo \n⏰ Hora: Charla: 1:00 p.m. a 2:30 p.m. | Conversatorio: 4:00 p.m. \n📍 Lugar: Plaza Corazón
URL:https://plazadelasamericas.com.co/evento/mujeres-fenomenales/
ATTACH;FMTTYPE=image/jpeg:https://plazadelasamericas.com.co/wp-content/uploads/2026/03/CONVERSATORIO2.avif
END:VEVENT
END:VCALENDAR